BEGIN:VCALENDAR
VERSION:2.0
PRODID:spatie/icalendar-generator
DESCRIPTION:Events from Arsenal Cider House
X-WR-CALDESC:Events from Arsenal Cider House
REFRESH-INTERVAL;VALUE=DURATION:PT1440M
X-PUBLISHED-TTL:PT1440M
BEGIN:VTIMEZONE
TZID:Etc/GMT+5
BEGIN:STANDARD
DTSTART:20230530T190000Z
TZOFFSETFROM:-0500
TZOFFSETTO:-0500
END:STANDARD
END:VTIMEZONE
BEGIN:VTIMEZONE
TZID:UTC
BEGIN:STANDARD
DTSTART:20250725T100145Z
TZOFFSETFROM:+0000
TZOFFSETTO:+0000
END:STANDARD
END:VTIMEZONE
BEGIN:VEVENT
UID:974-787
DTSTAMP:20260421T100145Z
SUMMARY:Live Music w/ Craig King [7pm - 10pm]
LOCATION:
ORGANIZER;CN=ciderhouse:MAILTO:williamjlarkin@comcast.net
DTSTART;TZID=Etc/GMT+5:20240224T190000
DTEND;TZID=Etc/GMT+5:20240224T220000
X-ALT-DESC;FMTTYPE=TEXT/HTML:
CATEGORIES:Dormont
URL;VALUE=URI:https://www.arsenalciderhouse.com/mc-events/live-music-w-crai
 g-king-7pm-10pm-4/?mc_id=974
END:VEVENT
END:VCALENDAR