BEGIN:VCALENDAR
VERSION:2.0
PRODID:spatie/icalendar-generator
DESCRIPTION:Events from Arsenal Cider House
X-WR-CALDESC:Events from Arsenal Cider House
REFRESH-INTERVAL;VALUE=DURATION:PT1440M
X-PUBLISHED-TTL:PT1440M
BEGIN:VTIMEZONE
TZID:Etc/GMT+5
BEGIN:STANDARD
DTSTART:20221024T173000Z
TZOFFSETFROM:-0500
TZOFFSETTO:-0500
END:STANDARD
END:VTIMEZONE
BEGIN:VTIMEZONE
TZID:UTC
BEGIN:STANDARD
DTSTART:20250725T100513Z
TZOFFSETFROM:+0000
TZOFFSETTO:+0000
END:STANDARD
END:VTIMEZONE
BEGIN:VEVENT
UID:621-522
DTSTAMP:20260421T100513Z
SUMMARY:Live Music w/ BIA [5:30pm - 8pm]
LOCATION:
ORGANIZER;CN=ciderhouse:MAILTO:williamjlarkin@comcast.net
DTSTART;TZID=Etc/GMT+5:20230721T173000
DTEND;TZID=Etc/GMT+5:20230721T200000
X-ALT-DESC;FMTTYPE=TEXT/HTML:
CATEGORIES:Wexford
URL;VALUE=URI:https://www.arsenalciderhouse.com/mc-events/live-music-w-bia-
 530pm-8pm-2/?mc_id=621
END:VEVENT
END:VCALENDAR